BEGIN:VCALENDAR
VERSION:2.0
CALSCALE:GREGORIAN
METHOD:PUBLISH
PRODID://KCFM//516520
BEGIN:VEVENT
DTSTAMP:20260421T073452
VTIMEZONE:America/New_York
DTSTART:20270211T170000Z
DTEND:20270211T180000Z
UID:516520
SUMMARY:Kentucky Mathematics COACH Collegial Support (VIRTUAL) with Cindy Aossey & Dee Crescitelli (2026-2027)
LOCATION:This cohort will virtually via ZOOM on select Thursday afternoons from 12-1 pm ET
DESCRIPTION:Kentucky Mathematics COACH Collegial Support (VIRTUAL) with Cindy Aossey & Dee Crescitelli (2026-2027)\n\n02/11/27 12:00 PM EST\n - 02/11/27 01:00 PM EST\Description:\nKentucky Mathematics Coach Collegial Support (VIRTUAL) with Cindy Aossey & Dee Crescitelli (2026-2027) \nThis is Year 3 for this online professional learning and support opportunity from the KCM for KENTUCKY K-12 Mathematics Coaches only. This group is for anyone working in Kentucky in a supportive role to teachers, which includes School Administrators. The KCM created this collegial support group so mathematics coaches throughout the Commonwealth could network and connect with each other. Together, this group will explore coaching resources and discuss ways to support teachers in their pedagogy and content knowledge grounded in Kentucky Academic Standards.  \n\nThis 2026-2027 Collegial Support Group for Kentucky Math Coaches includes the following: \n1. Seven 1-hour monthly ZOOM meetings on Thursday afternoons where participants can interact with fellow KY math coaches and learn from KCM Leaders including Director Cindy Aossey and Faculty Assocaite Dee Crescitelli, along with other special guest speakers. \n2. Opportunities to connect and collaborate with KY math coaches to share ideas and experiences.   \n3. Active participants will receive a copy of the book The 5 Practices in Practice: Successfully Orchestrating Mathematics Discussions.  When each KY Math Coach registers for this event, they will select the grade band of this book that they wish to receive: Elementary, Middle School, or High School.\n4. Because virtual is great but in-person is better, the KCM will hold a special, invitation-only, get-together session for this group at the 2027 KCM Conference in Lexington on March 8th or 9th.  \n\nCOST: FREE for Kentucky math coaches. (You must work as a math coach or administrator in a KY school or school district to join this group.)   \nLOCATION: Virtual ZOOM meetings \nTIME: 12:00 - 1:00 pm Eastern (which is 11:00 - 12:00 pm Central) \nDATES: 7 Select THURSDAYS - September 2026 through March 2027 \n1. September 10, 2026\n2. October 15, 2026\n3. November 12, 2026\n4. December 10, 2026\n5. January 7, 2027\n6. February 11, 2027\n* This collegial group will meet in person at the 2027 KCM Conference in Lexington on March 8 or 9.   \n7. March 25, 2027\n\nKentucky math coaches may register at any time. You do not need to be able to attend every virtual ZOOM meeting to register and participate. \n\nHelp us spread the word! Please share this professional learning event with any Kentucky math coaches you know.\n\nThe monthly ZOOM meeting link will be emailed to all registered KY math coaches and school administrators by KCM Director Cindy Aossey (cindy.aossey@outlook.com) Those emails may go to your junk or spam folder so check there regularly after registering for this event. \n\nThe KCM asks that participants in the monthly ZOOM meetings be sure to sign in each session so the KCM can record attendance. Participants in the monthly ZOOM meetings will be emailed a KCM Attendance Certificate for each session they attend.\n\nWe hope you will take advantage of this wonderful professional learning opportunity designed specifically for Kentucky math coaches! \n\nThe KCM can be reached at kcm@nku.edu or 859-572-7690. We are located on the campus of Northern Kentucky University in Highland Heights, KY. We look forward to supporting you during the 2026-2027 school year and beyond! \n\n\n\Location:\nThis cohort will virtually via ZOOM on select Thursday afternoons from 12-1 pm ET\n\n,
X-ALT-DESC;FMTTYPE=text/html:Kentucky Mathematics COACH Collegial Support (VIRTUAL) with Cindy Aossey & Dee Crescitelli (2026-2027)<br /><br />02/11/27 12:00 PM EST - 02/11/27 01:00 PM EST<br />Description:<br /><u><strong><span style="font-size:16px"><span style="font-family:tahoma,geneva,sans-serif">Kentucky Mathematics Coach Collegial Support (VIRTUAL) with Cindy Aossey &amp; Dee Crescitelli (2026-2027)</span></span></strong></u><span style="font-size:16px"><span style="font-family:tahoma,geneva,sans-serif"><strong> </strong></span></span><br />
<span style="font-size:14px"><span style="font-family:tahoma,geneva,sans-serif">This is Year 3 for this online professional learning and support opportunity from the KCM for KENTUCKY K-12 Mathematics Coaches only.&nbsp;This group is for anyone&nbsp;working in Kentucky in a supportive role to teachers, which includes&nbsp;School Administrators.&nbsp;The KCM created this collegial support group so mathematics coaches throughout the Commonwealth could network and connect with each other.&nbsp;Together, this group will explore coaching resources and discuss ways to support teachers in their pedagogy and content knowledge grounded in Kentucky Academic Standards. &nbsp;</span></span><br />
<br />
<span style="font-size:14px"><span style="font-family:tahoma,geneva,sans-serif"><strong>This 2026-2027&nbsp;Collegial Support Group for Kentucky Math Coaches includes the following:&nbsp;</strong><br />
1. Seven<strong>&nbsp;</strong>1-hour monthly ZOOM meetings on Thursday afternoons where participants can interact with fellow KY math coaches and learn from KCM Leaders including Director Cindy Aossey and Faculty Assocaite Dee Crescitelli, along with other special guest speakers.&nbsp;<br />
2. Opportunities to connect and collaborate with KY math coaches to share ideas and experiences. &nbsp;&nbsp;<br />
3.&nbsp;</span></span>Active participants will receive a copy of the book <strong>The 5 Practices in Practice: Successfully Orchestrating Mathematics Discussions.&nbsp;</strong>&nbsp;When each KY Math Coach registers for this event, they will select the grade band of this book that they wish to receive: Elementary, Middle School, or High School.<br />
<span style="font-size:14px"><span style="font-family:tahoma,geneva,sans-serif">4. Because virtual is great but in-person is better, the KCM will hold a special, invitation-only, get-together session for this group at the 2027 KCM Conference in Lexington on March 8th or 9th. &nbsp;</span></span><br />
<br />
<span style="font-size:14px"><span style="font-family:tahoma,geneva,sans-serif"><strong>COST: </strong>FREE for <strong>Kentucky</strong> math coaches. (You must work as a math coach or administrator in a KY school or school district to join this group.)&nbsp; &nbsp;<br />
<strong>LOCATION: </strong>Virtual ZOOM meetings&nbsp;<br />
<strong>TIME:</strong>&nbsp;12:00 - 1:00 pm Eastern <em>(which is 11:00 - 12:00 pm Central)&nbsp;</em><br />
<strong>DATES:</strong>&nbsp;7 Select THURSDAYS - September 2026 through March 2027&nbsp;<br />
1. September 10, 2026<br />
2. October 15, 2026<br />
3. November 12, 2026<br />
4. December 10, 2026<br />
5. January 7, 2027<br />
6. February 11, 2027<br />
* This collegial group will meet in person at the 2027 KCM Conference in Lexington on March 8 or 9.&nbsp;&nbsp;&nbsp;<br />
7. March 25, 2027<br />
<br />
Kentucky math coaches may register at any time. You do not need to be able to attend every virtual ZOOM meeting to register and participate.&nbsp;<br />
<br />
Help us spread the word! Please share this professional learning event with any Kentucky math coaches you know.</span></span><br />
<br />
<span style="font-size:14px"><span style="font-family:tahoma,geneva,sans-serif">The monthly ZOOM meeting link will be emailed to all registered KY math coaches and school administrators by KCM Director Cindy Aossey (cindy.aossey@outlook.com) Those emails may go to your junk or spam folder so check there regularly after registering for this event.&nbsp;<br />
<br />
The KCM asks that participants in the monthly ZOOM meetings be sure to sign in each session so the KCM can record attendance.&nbsp;Participants in the monthly ZOOM meetings will be emailed a KCM Attendance Certificate for each session they attend.<br />
<br />
We hope you will take advantage of this wonderful professional learning opportunity designed specifically for Kentucky math coaches!&nbsp;<br />
<br />
The KCM can be reached at kcm@nku.edu or 859-572-7690. We are located on the campus of Northern Kentucky University in Highland Heights, KY. We look forward to supporting you during the 2026-2027 school year and beyond!&nbsp;</span></span><br />
<style type="text/css"><!--td {border: 1px solid #cccccc;}br {mso-data-placement:same-cell;}-->
</style>
<br />Location:<br />This cohort will virtually via ZOOM on select Thursday afternoons from 12-1 pm ET<br /><br />,  
PRIORITY:3
TRANSP:TRANSPARENT
BEGIN:VALARM
TRIGGER:-PT5M
ACTION:DISPLAY
DESCRIPTION:Reminder
END:VALARM
END:VEVENT
END:VCALENDAR
